BEGIN:VCALENDAR
VERSION:2.0
PRODID:-//Tukios.com/
BEGIN:VEVENT
UID:39b8449b-0652-458c-9f9d-a5ee8b0ba475@www.barrancofuneralhome.com
DTSTAMP:20260424T155034Z
DTSTART:20260502T190000Z
DTEND:20260502T200000Z
SUMMARY:Funeral Service
DESCRIPTION:
URL:https://www.barrancofuneralhome.com/obituaries/dale-bickerstaff-2026
LOCATION:Barranco Funeral Home 495 Ritchie Highway  Severna Park MD 21146
GEO:39.0824622;-76.5493679
END:VEVENT
END:VCALENDAR