BEGIN:VCALENDAR
VERSION:2.0
PRODID:-//Tukios.com/
BEGIN:VEVENT
UID:542cdb3e-b8b7-446b-89ea-1e3963be8f58@www.barrancofuneralhome.com
DTSTAMP:20260424T155155Z
DTSTART:20260502T170000Z
DTEND:20260502T190000Z
SUMMARY:Visitation
DESCRIPTION:
URL:https://www.barrancofuneralhome.com/obituaries/dale-bickerstaff-2026
LOCATION:Barranco Funeral Home 495 Ritchie Highway  Severna Park MD 21146
GEO:39.0824622;-76.5493679
END:VEVENT
END:VCALENDAR